BEGIN:VCALENDAR
VERSION:2.0
PRODID:-//Haute Garonne Montagne - ECPv6.15.17.1//NONSGML v1.0//EN
CALSCALE:GREGORIAN
METHOD:PUBLISH
X-ORIGINAL-URL:https://www.haute-garonne-montagne.com
X-WR-CALDESC:Évènements pour Haute Garonne Montagne
REFRESH-INTERVAL;VALUE=DURATION:PT1H
X-Robots-Tag:noindex
X-PUBLISHED-TTL:PT1H
BEGIN:VTIMEZONE
TZID:Europe/Paris
BEGIN:DAYLIGHT
TZOFFSETFROM:+0100
TZOFFSETTO:+0200
TZNAME:CEST
DTSTART:20250330T010000
END:DAYLIGHT
BEGIN:STANDARD
TZOFFSETFROM:+0200
TZOFFSETTO:+0100
TZNAME:CET
DTSTART:20251026T010000
END:STANDARD
BEGIN:DAYLIGHT
TZOFFSETFROM:+0100
TZOFFSETTO:+0200
TZNAME:CEST
DTSTART:20260329T010000
END:DAYLIGHT
BEGIN:STANDARD
TZOFFSETFROM:+0200
TZOFFSETTO:+0100
TZNAME:CET
DTSTART:20261025T010000
END:STANDARD
BEGIN:DAYLIGHT
TZOFFSETFROM:+0100
TZOFFSETTO:+0200
TZNAME:CEST
DTSTART:20270328T010000
END:DAYLIGHT
BEGIN:STANDARD
TZOFFSETFROM:+0200
TZOFFSETTO:+0100
TZNAME:CET
DTSTART:20271031T010000
END:STANDARD
END:VTIMEZONE
BEGIN:VEVENT
DTSTART;VALUE=DATE:20260905
DTEND;VALUE=DATE:20260907
DTSTAMP:20260421T215230
CREATED:20260417T122652Z
LAST-MODIFIED:20260417T122652Z
UID:4151-1788566400-1788739199@www.haute-garonne-montagne.com
SUMMARY:Guinguette éphémère & Concours de pétanque
DESCRIPTION:Plus d’informations prochainement.
URL:https://www.haute-garonne-montagne.com/event/guinguette-ephemere-concours-de-petanque-2/
LOCATION:Luchon-Superbagnères\, Station de Luchon-Superbagnères\, Bagnères-de-Luchon\, 31110\, France
CATEGORIES:Animations & festivités,Concours de pétanque,Gastronomie,Luchon-Superbagnères,Sports & compétitions
ORGANIZER;CN="Haute-Garonne Montagne":MAILTO:info@hg-montagne.com
END:VEVENT
BEGIN:VEVENT
DTSTART;VALUE=DATE:20260912
DTEND;VALUE=DATE:20260914
DTSTAMP:20260421T215230
CREATED:20260417T122736Z
LAST-MODIFIED:20260417T122736Z
UID:4153-1789171200-1789343999@www.haute-garonne-montagne.com
SUMMARY:Guinguette éphémère & Concours de pétanque
DESCRIPTION:Plus d’informations prochainement.
URL:https://www.haute-garonne-montagne.com/event/guinguette-ephemere-concours-de-petanque-3/
LOCATION:Luchon-Superbagnères\, Station de Luchon-Superbagnères\, Bagnères-de-Luchon\, 31110\, France
CATEGORIES:Animations & festivités,Concours de pétanque,Gastronomie,Luchon-Superbagnères,Sports & compétitions
ORGANIZER;CN="Haute-Garonne Montagne":MAILTO:info@hg-montagne.com
END:VEVENT
BEGIN:VEVENT
DTSTART;VALUE=DATE:20260913
DTEND;VALUE=DATE:20260914
DTSTAMP:20260421T215230
CREATED:20260417T123246Z
LAST-MODIFIED:20260417T123246Z
UID:4155-1789257600-1789343999@www.haute-garonne-montagne.com
SUMMARY:La Lapébie
DESCRIPTION:Vous avez l’esprit de compétition ou simplement vous voulez vous faire plaisir ? Venez participer à la 35ᵉ édition de cette emblématique cyclosportive\, avec une arrivée à Superbagnères pour le grand format.
URL:https://www.haute-garonne-montagne.com/event/la-lapebie/
LOCATION:Luchon-Superbagnères\, Station de Luchon-Superbagnères\, Bagnères-de-Luchon\, 31110\, France
CATEGORIES:Cyclosportive,Luchon-Superbagnères,Sports & compétitions
END:VEVENT
BEGIN:VEVENT
DTSTART;VALUE=DATE:20260919
DTEND;VALUE=DATE:20260921
DTSTAMP:20260421T215230
CREATED:20260417T123836Z
LAST-MODIFIED:20260417T124735Z
UID:4158-1789776000-1789948799@www.haute-garonne-montagne.com
SUMMARY:Finale de l'Enduro Series - Coupe de France VTT & VTTAE
DESCRIPTION:Après un come-back réussi dans le massif Pyrénéen en 2025\, la série retourne à Luchon pour une finale qui s’annonce grandiose.
URL:https://www.haute-garonne-montagne.com/event/finale-enduro-series/
LOCATION:Luchon-Superbagnères\, Station de Luchon-Superbagnères\, Bagnères-de-Luchon\, 31110\, France
CATEGORIES:Luchon-Superbagnères,Sports & compétitions,VTT & Enduro
END:VEVENT
END:VCALENDAR