BEGIN:VCALENDAR
VERSION:2.0
PRODID:-//Haute Garonne Montagne - ECPv6.15.17.1//NONSGML v1.0//EN
CALSCALE:GREGORIAN
METHOD:PUBLISH
X-WR-CALNAME:Haute Garonne Montagne
X-ORIGINAL-URL:https://www.haute-garonne-montagne.com
X-WR-CALDESC:Évènements pour Haute Garonne Montagne
REFRESH-INTERVAL;VALUE=DURATION:PT1H
X-Robots-Tag:noindex
X-PUBLISHED-TTL:PT1H
BEGIN:VTIMEZONE
TZID:Europe/Paris
BEGIN:DAYLIGHT
TZOFFSETFROM:+0100
TZOFFSETTO:+0200
TZNAME:CEST
DTSTART:20250330T010000
END:DAYLIGHT
BEGIN:STANDARD
TZOFFSETFROM:+0200
TZOFFSETTO:+0100
TZNAME:CET
DTSTART:20251026T010000
END:STANDARD
BEGIN:DAYLIGHT
TZOFFSETFROM:+0100
TZOFFSETTO:+0200
TZNAME:CEST
DTSTART:20260329T010000
END:DAYLIGHT
BEGIN:STANDARD
TZOFFSETFROM:+0200
TZOFFSETTO:+0100
TZNAME:CET
DTSTART:20261025T010000
END:STANDARD
BEGIN:DAYLIGHT
TZOFFSETFROM:+0100
TZOFFSETTO:+0200
TZNAME:CEST
DTSTART:20270328T010000
END:DAYLIGHT
BEGIN:STANDARD
TZOFFSETFROM:+0200
TZOFFSETTO:+0100
TZNAME:CET
DTSTART:20271031T010000
END:STANDARD
END:VTIMEZONE
BEGIN:VEVENT
DTSTART;VALUE=DATE:20260502
DTEND;VALUE=DATE:20260503
DTSTAMP:20260420T110209
CREATED:20260416T130925Z
LAST-MODIFIED:20260416T131041Z
UID:4102-1777680000-1777766399@www.haute-garonne-montagne.com
SUMMARY:Trail du Mourtis
DESCRIPTION:Le Trail du Mourtis est une course en milieu naturel organisée par l’association « Trail du Mourtis ».
URL:https://www.haute-garonne-montagne.com/event/trail-du-mourtis/
LOCATION:Le Mourtis\, Station Le Mourtis\, Boutx\, 31440\, France
CATEGORIES:Le Mourtis,Sports & compétitions,Trail
END:VEVENT
BEGIN:VEVENT
DTSTART;VALUE=DATE:20260530
DTEND;VALUE=DATE:20260531
DTSTAMP:20260420T110209
CREATED:20260416T131348Z
LAST-MODIFIED:20260416T131348Z
UID:4105-1780099200-1780185599@www.haute-garonne-montagne.com
SUMMARY:Transhumance
DESCRIPTION:Organisée par les éleveurs et de nombreux bénévoles. Un événement authentique et convivial avec à l’arrivée grillades au plateau de l’Escalette.
URL:https://www.haute-garonne-montagne.com/event/transhumance/
LOCATION:Le Mourtis\, Station Le Mourtis\, Boutx\, 31440\, France
CATEGORIES:Animations & festivités,Le Mourtis,Tradition
END:VEVENT
BEGIN:VEVENT
DTSTART;VALUE=DATE:20260613
DTEND;VALUE=DATE:20260614
DTSTAMP:20260420T110209
CREATED:20260417T070005Z
LAST-MODIFIED:20260417T070005Z
UID:4112-1781308800-1781395199@www.haute-garonne-montagne.com
SUMMARY:Opération Montagne Propre
DESCRIPTION:Participez à l’opération Montagne Propre à Luchon-Superbagnères ou au Mourtis ! Une demi-journée dédiée au ramassage des déchets en montagne. \nInscription en ligne sur Pyrénées31
URL:https://www.haute-garonne-montagne.com/event/operation-montagne-propre/
CATEGORIES:Animations & festivités,Le Mourtis,Luchon-Superbagnères,Montagne Propre
ORGANIZER;CN="Haute-Garonne Montagne":MAILTO:info@hg-montagne.com
END:VEVENT
BEGIN:VEVENT
DTSTART;VALUE=DATE:20260718
DTEND;VALUE=DATE:20260720
DTSTAMP:20260420T110209
CREATED:20260417T090544Z
LAST-MODIFIED:20260417T090544Z
UID:4122-1784332800-1784505599@www.haute-garonne-montagne.com
SUMMARY:Enduro du Mourtis
DESCRIPTION:Deux journées de compétition VTT pour les Kids et les adultes. Parcours variés en pleine montagne et sensations fortes au rendez-vous !
URL:https://www.haute-garonne-montagne.com/event/enduro-du-mourtis/
LOCATION:Le Mourtis\, Station Le Mourtis\, Boutx\, 31440\, France
CATEGORIES:Le Mourtis,Sports & compétitions,VTT & Enduro
END:VEVENT
BEGIN:VEVENT
DTSTART;VALUE=DATE:20260725
DTEND;VALUE=DATE:20260727
DTSTAMP:20260420T110209
CREATED:20260417T093446Z
LAST-MODIFIED:20260417T093446Z
UID:4125-1784937600-1785110399@www.haute-garonne-montagne.com
SUMMARY:60 ans du Mourtis
DESCRIPTION:Un weekend festif pour célébrer ensemble les 60 ans de la station. \nProgramme à venir.
URL:https://www.haute-garonne-montagne.com/event/60-ans-du-mourtis-ete/
LOCATION:Le Mourtis\, Station Le Mourtis\, Boutx\, 31440\, France
CATEGORIES:Animations & festivités,Le Mourtis
ORGANIZER;CN="Haute-Garonne Montagne":MAILTO:info@hg-montagne.com
END:VEVENT
BEGIN:VEVENT
DTSTART;VALUE=DATE:20260807
DTEND;VALUE=DATE:20260808
DTSTAMP:20260420T110209
CREATED:20260417T101732Z
LAST-MODIFIED:20260417T101732Z
UID:4135-1786060800-1786147199@www.haute-garonne-montagne.com
SUMMARY:Festival 31 notes d'été
DESCRIPTION:Le festival 31 notes d’été fait escale pour la première fois au Mourtis et revient du 1ᵉʳ au 29 août 2026 pour faire vibrer la Haute-Garonne ! Pendant cinq semaines\, 18 lieux accueillent plus de 100 événements gratuits : spectacles\, expositions\, visites touristiques\, culturelles et patrimoniales et pauses guinguettes conviviales. Porté par plus de 100 partenaires\, le festival est un moment de rencontre et de fête\, un parcours vivant et chaleureux au cœur des territoires du département. \nProgramme à venir.
URL:https://www.haute-garonne-montagne.com/event/festival-31-notes-dete-mourtis/
LOCATION:Le Mourtis\, Station Le Mourtis\, Boutx\, 31440\, France
CATEGORIES:Animations & festivités,Le Mourtis
END:VEVENT
BEGIN:VEVENT
DTSTART;VALUE=DATE:20260813
DTEND;VALUE=DATE:20260814
DTSTAMP:20260420T110209
CREATED:20260417T115553Z
LAST-MODIFIED:20260417T115553Z
UID:4140-1786579200-1786665599@www.haute-garonne-montagne.com
SUMMARY:JO du berger
DESCRIPTION:Informations et inscriptions prochainement.
URL:https://www.haute-garonne-montagne.com/event/jo-du-berger/
LOCATION:Le Mourtis\, Station Le Mourtis\, Boutx\, 31440\, France
CATEGORIES:Animations & festivités,Le Mourtis
END:VEVENT
END:VCALENDAR