BEGIN:VCALENDAR
VERSION:2.0
PRODID:-//Haute Garonne Montagne - ECPv6.15.17.1//NONSGML v1.0//EN
CALSCALE:GREGORIAN
METHOD:PUBLISH
X-WR-CALNAME:Haute Garonne Montagne
X-ORIGINAL-URL:https://www.haute-garonne-montagne.com
X-WR-CALDESC:Évènements pour Haute Garonne Montagne
REFRESH-INTERVAL;VALUE=DURATION:PT1H
X-Robots-Tag:noindex
X-PUBLISHED-TTL:PT1H
BEGIN:VTIMEZONE
TZID:Europe/Paris
BEGIN:DAYLIGHT
TZOFFSETFROM:+0100
TZOFFSETTO:+0200
TZNAME:CEST
DTSTART:20250330T010000
END:DAYLIGHT
BEGIN:STANDARD
TZOFFSETFROM:+0200
TZOFFSETTO:+0100
TZNAME:CET
DTSTART:20251026T010000
END:STANDARD
BEGIN:DAYLIGHT
TZOFFSETFROM:+0100
TZOFFSETTO:+0200
TZNAME:CEST
DTSTART:20260329T010000
END:DAYLIGHT
BEGIN:STANDARD
TZOFFSETFROM:+0200
TZOFFSETTO:+0100
TZNAME:CET
DTSTART:20261025T010000
END:STANDARD
BEGIN:DAYLIGHT
TZOFFSETFROM:+0100
TZOFFSETTO:+0200
TZNAME:CEST
DTSTART:20270328T010000
END:DAYLIGHT
BEGIN:STANDARD
TZOFFSETFROM:+0200
TZOFFSETTO:+0100
TZNAME:CET
DTSTART:20271031T010000
END:STANDARD
END:VTIMEZONE
BEGIN:VEVENT
DTSTART;VALUE=DATE:20260802
DTEND;VALUE=DATE:20260803
DTSTAMP:20260421T190800
CREATED:20260417T093859Z
LAST-MODIFIED:20260417T093950Z
UID:4127-1785628800-1785715199@www.haute-garonne-montagne.com
SUMMARY:CosmoJazz\, marché des producteurs & Brandon
DESCRIPTION:Pour sa 3ᵉ édition\, le festival fera vibrer le domaine au rythme du jazz. En parallèle\, profitez des produits du terroir et du traditionnel Brandon\, pour une journée mêlant musique\, saveurs et traditions.
URL:https://www.haute-garonne-montagne.com/event/cosmojazz-luchon-superbagneres/
LOCATION:Luchon-Superbagnères\, Station de Luchon-Superbagnères\, Bagnères-de-Luchon\, 31110\, France
CATEGORIES:Animations & festivités,Concert en altitude,Gastronomie,Luchon-Superbagnères,Marché des producteurs,Nocturne,Tradition
ORGANIZER;CN="Haute-Garonne Montagne":MAILTO:info@hg-montagne.com
END:VEVENT
BEGIN:VEVENT
DTSTART;VALUE=DATE:20260804
DTEND;VALUE=DATE:20260805
DTSTAMP:20260421T190800
CREATED:20260417T095422Z
LAST-MODIFIED:20260417T100729Z
UID:4129-1785801600-1785887999@www.haute-garonne-montagne.com
SUMMARY:Don du sang
DESCRIPTION:Rejoignez-nous en gare de départ de la télécabine pour ce geste simple mais vital\, avec des récompenses pour les donneurs.
URL:https://www.haute-garonne-montagne.com/event/don-du-sang-luchon-superbagneres/
LOCATION:Luchon-Superbagnères\, Station de Luchon-Superbagnères\, Bagnères-de-Luchon\, 31110\, France
CATEGORIES:Animations & festivités,Don du sang,Luchon-Superbagnères
END:VEVENT
BEGIN:VEVENT
DTSTART;VALUE=DATE:20260812
DTEND;VALUE=DATE:20260813
DTSTAMP:20260421T190800
CREATED:20260417T102830Z
LAST-MODIFIED:20260417T102922Z
UID:4138-1786492800-1786579199@www.haute-garonne-montagne.com
SUMMARY:Observation éclipse du soleil & Ciné plein air
DESCRIPTION:Venez observer de près une éclipse solaire quasi totale à 1 800 m d’altitude\, en profitant de la distribution de 500 paires de lunettes adaptées.\nPour prolonger la magie sous les étoiles\, la soirée se poursuivra avec un ciné plein air sur le thème de la galaxy.
URL:https://www.haute-garonne-montagne.com/event/observation-eclipse-cine-plein-air/
LOCATION:Luchon-Superbagnères\, Station de Luchon-Superbagnères\, Bagnères-de-Luchon\, 31110\, France
CATEGORIES:Animations & festivités,Astronomie,Luchon-Superbagnères,Nocturne,Projection de film
ORGANIZER;CN="Haute-Garonne Montagne":MAILTO:info@hg-montagne.com
END:VEVENT
BEGIN:VEVENT
DTSTART;TZID=Europe/Paris:20260814T103000
DTEND;TZID=Europe/Paris:20260814T113000
DTSTAMP:20260421T190800
CREATED:20260417T115910Z
LAST-MODIFIED:20260417T115910Z
UID:4143-1786703400-1786707000@www.haute-garonne-montagne.com
SUMMARY:Concert de chants traditionnels
DESCRIPTION:Profitez d’un concert unique autour des traditions locales sur le toit-terrasse de la télécabine.
URL:https://www.haute-garonne-montagne.com/event/concert-chants-traditionnels/
LOCATION:Luchon-Superbagnères\, Station de Luchon-Superbagnères\, Bagnères-de-Luchon\, 31110\, France
CATEGORIES:Animations & festivités,Concert en altitude,Luchon-Superbagnères,Tradition
ORGANIZER;CN="Haute-Garonne Montagne":MAILTO:info@hg-montagne.com
END:VEVENT
BEGIN:VEVENT
DTSTART;VALUE=DATE:20260816
DTEND;VALUE=DATE:20260817
DTSTAMP:20260421T190800
CREATED:20260417T120554Z
LAST-MODIFIED:20260417T120554Z
UID:4145-1786838400-1786924799@www.haute-garonne-montagne.com
SUMMARY:Fabrication & Mise en vol de cerfs-volants géants
DESCRIPTION:En famille ou entre amis\, créez vos propres cerfs‑volants tout en admirant la grande mise en vol de cerfs-volants spectaculaires (pieuvre\, poisson\, dragon\, tigres…).
URL:https://www.haute-garonne-montagne.com/event/fabrication-mise-en-vol-de-cerfs-volants-geants/
LOCATION:Luchon-Superbagnères\, Station de Luchon-Superbagnères\, Bagnères-de-Luchon\, 31110\, France
CATEGORIES:Animations & festivités,Atelier,Luchon-Superbagnères
ORGANIZER;CN="Haute-Garonne Montagne":MAILTO:info@hg-montagne.com
END:VEVENT
BEGIN:VEVENT
DTSTART;VALUE=DATE:20260826
DTEND;VALUE=DATE:20260827
DTSTAMP:20260421T190800
CREATED:20260417T121019Z
LAST-MODIFIED:20260417T121019Z
UID:4147-1787702400-1787788799@www.haute-garonne-montagne.com
SUMMARY:Journée mondiale du chien à Superbagnères
DESCRIPTION:Célébrez vos compagnons à quatre pattes avec cette journée spéciale ! Participez à des ateliers ludiques\, comme des couloirs de nage ou un parcours d’agility. L’ensemble des ateliers sont gratuits et encadrés par des professionnels du milieu canin. \nÀ savoir : pendant cette journée\, mais aussi tout au long de la saison\, faites une bonne action en emmenant votre compagnon à Luchon-Superbagnères. Pour chaque forfait télécabine « animaux de compagnie » acheté\, 1 € sera reversé à la SPA.
URL:https://www.haute-garonne-montagne.com/event/journee-mondiale-du-chien-superbagneres/
LOCATION:Luchon-Superbagnères\, Station de Luchon-Superbagnères\, Bagnères-de-Luchon\, 31110\, France
CATEGORIES:Animations & festivités,Atelier,Luchon-Superbagnères
ORGANIZER;CN="Haute-Garonne Montagne":MAILTO:info@hg-montagne.com
END:VEVENT
BEGIN:VEVENT
DTSTART;VALUE=DATE:20260829
DTEND;VALUE=DATE:20260831
DTSTAMP:20260421T190800
CREATED:20260417T122554Z
LAST-MODIFIED:20260417T122709Z
UID:4149-1787961600-1788134399@www.haute-garonne-montagne.com
SUMMARY:Guinguette éphémère & Concours de pétanque
DESCRIPTION:Plus d’informations prochainement.
URL:https://www.haute-garonne-montagne.com/event/guinguette-ephemere-concours-de-petanque/
LOCATION:Luchon-Superbagnères\, Station de Luchon-Superbagnères\, Bagnères-de-Luchon\, 31110\, France
CATEGORIES:Animations & festivités,Concours de pétanque,Gastronomie,Luchon-Superbagnères,Sports & compétitions
ORGANIZER;CN="Haute-Garonne Montagne":MAILTO:info@hg-montagne.com
END:VEVENT
END:VCALENDAR